BEGIN:VCALENDAR
VERSION:2.0
PRODID:-//Gayton Junior School - ECPv6.15.11//NONSGML v1.0//EN
CALSCALE:GREGORIAN
METHOD:PUBLISH
X-WR-CALNAME:Gayton Junior School
X-ORIGINAL-URL:https://gaytonj.derby.sch.uk
X-WR-CALDESC:Events for Gayton Junior School
REFRESH-INTERVAL;VALUE=DURATION:PT1H
X-Robots-Tag:noindex
X-PUBLISHED-TTL:PT1H
BEGIN:VTIMEZONE
TZID:Europe/London
BEGIN:DAYLIGHT
TZOFFSETFROM:+0000
TZOFFSETTO:+0100
TZNAME:BST
DTSTART:20210328T010000
END:DAYLIGHT
BEGIN:STANDARD
TZOFFSETFROM:+0100
TZOFFSETTO:+0000
TZNAME:GMT
DTSTART:20211031T010000
END:STANDARD
BEGIN:DAYLIGHT
TZOFFSETFROM:+0000
TZOFFSETTO:+0100
TZNAME:BST
DTSTART:20220327T010000
END:DAYLIGHT
BEGIN:STANDARD
TZOFFSETFROM:+0100
TZOFFSETTO:+0000
TZNAME:GMT
DTSTART:20221030T010000
END:STANDARD
BEGIN:DAYLIGHT
TZOFFSETFROM:+0000
TZOFFSETTO:+0100
TZNAME:BST
DTSTART:20230326T010000
END:DAYLIGHT
BEGIN:STANDARD
TZOFFSETFROM:+0100
TZOFFSETTO:+0000
TZNAME:GMT
DTSTART:20231029T010000
END:STANDARD
END:VTIMEZONE
BEGIN:VEVENT
DTSTART;VALUE=DATE:20220905
DTEND;VALUE=DATE:20221022
DTSTAMP:20260424T073353
CREATED:20220904T185943Z
LAST-MODIFIED:20220904T185943Z
UID:5147-1662336000-1666396799@gaytonj.derby.sch.uk
SUMMARY:Autumn Term 1
DESCRIPTION:
URL:https://gaytonj.derby.sch.uk/event/autumn-term-1/
END:VEVENT
BEGIN:VEVENT
DTSTART;TZID=Europe/London:20220905T085500
DTEND;TZID=Europe/London:20220905T153000
DTSTAMP:20260424T073353
CREATED:20220904T185853Z
LAST-MODIFIED:20220904T185853Z
UID:5145-1662368100-1662391800@gaytonj.derby.sch.uk
SUMMARY:Back to School
DESCRIPTION:We welcome children back for the new school year today.
URL:https://gaytonj.derby.sch.uk/event/back-to-school-11/
END:VEVENT
BEGIN:VEVENT
DTSTART;TZID=Europe/London:20220916T080000
DTEND;TZID=Europe/London:20220916T170000
DTSTAMP:20260424T073353
CREATED:20220916T082107Z
LAST-MODIFIED:20220916T082107Z
UID:5171-1663315200-1663347600@gaytonj.derby.sch.uk
SUMMARY:Deadline for Y7 Applications for Secondary School Places
DESCRIPTION:The deadline for applications is 31st October 2022. Apply for a place online by clicking here. \nOur experience has showed us that it is really important that you put down more than one preference for a secondary school\, as sometimes schools are heavily oversubscribed and\, without a second option\, children are placed at schools in the city that are left with spaces after all places are allocated. This can cause unnecessary worry for children during what is already a difficult time whilst parents appeal for places at other schools.  \n 
URL:https://gaytonj.derby.sch.uk/event/deadline-for-y7-applications-for-secondary-school-places/
END:VEVENT
BEGIN:VEVENT
DTSTART;VALUE=DATE:20220919
DTEND;VALUE=DATE:20220920
DTSTAMP:20260424T073353
CREATED:20220916T081149Z
LAST-MODIFIED:20220916T081149Z
UID:5165-1663545600-1663631999@gaytonj.derby.sch.uk
SUMMARY:Bank Holiday
DESCRIPTION:The school is closed today for the State Funeral of Her Majesty\, Queen Elizabeth II.
URL:https://gaytonj.derby.sch.uk/event/bank-holiday/
END:VEVENT
BEGIN:VEVENT
DTSTART;VALUE=DATE:20220930
DTEND;VALUE=DATE:20221001
DTSTAMP:20260424T073353
CREATED:20220916T081424Z
LAST-MODIFIED:20220916T081424Z
UID:5167-1664496000-1664582399@gaytonj.derby.sch.uk
SUMMARY:Year 3 Markeaton Park Trip
DESCRIPTION:Details to follow.
URL:https://gaytonj.derby.sch.uk/event/year-3-markeaton-park-trip/
END:VEVENT
END:VCALENDAR