BEGIN:VCALENDAR
VERSION:2.0
PRODID:-//Gayton Junior School - ECPv6.15.11//NONSGML v1.0//EN
CALSCALE:GREGORIAN
METHOD:PUBLISH
X-WR-CALNAME:Gayton Junior School
X-ORIGINAL-URL:https://gaytonj.derby.sch.uk
X-WR-CALDESC:Events for Gayton Junior School
REFRESH-INTERVAL;VALUE=DURATION:PT1H
X-Robots-Tag:noindex
X-PUBLISHED-TTL:PT1H
BEGIN:VTIMEZONE
TZID:Europe/London
BEGIN:DAYLIGHT
TZOFFSETFROM:+0000
TZOFFSETTO:+0100
TZNAME:BST
DTSTART:20210328T010000
END:DAYLIGHT
BEGIN:STANDARD
TZOFFSETFROM:+0100
TZOFFSETTO:+0000
TZNAME:GMT
DTSTART:20211031T010000
END:STANDARD
BEGIN:DAYLIGHT
TZOFFSETFROM:+0000
TZOFFSETTO:+0100
TZNAME:BST
DTSTART:20220327T010000
END:DAYLIGHT
BEGIN:STANDARD
TZOFFSETFROM:+0100
TZOFFSETTO:+0000
TZNAME:GMT
DTSTART:20221030T010000
END:STANDARD
BEGIN:DAYLIGHT
TZOFFSETFROM:+0000
TZOFFSETTO:+0100
TZNAME:BST
DTSTART:20230326T010000
END:DAYLIGHT
BEGIN:STANDARD
TZOFFSETFROM:+0100
TZOFFSETTO:+0000
TZNAME:GMT
DTSTART:20231029T010000
END:STANDARD
END:VTIMEZONE
BEGIN:VEVENT
DTSTART;VALUE=DATE:20220701
DTEND;VALUE=DATE:20220702
DTSTAMP:20260424T043655
CREATED:20220405T165453Z
LAST-MODIFIED:20220405T165453Z
UID:4953-1656633600-1656719999@gaytonj.derby.sch.uk
SUMMARY:Sponsored Event
DESCRIPTION:More information to follow.
URL:https://gaytonj.derby.sch.uk/event/sponsored-event-2/
END:VEVENT
BEGIN:VEVENT
DTSTART;VALUE=DATE:20220705
DTEND;VALUE=DATE:20220708
DTSTAMP:20260424T043655
CREATED:20220405T165621Z
LAST-MODIFIED:20220405T171811Z
UID:4955-1656979200-1657238399@gaytonj.derby.sch.uk
SUMMARY:Transition Days
DESCRIPTION:All Year 6 children will move to their new secondary schools during these three days as part of a planned city-wide transition project.
URL:https://gaytonj.derby.sch.uk/event/transition-days/
END:VEVENT
BEGIN:VEVENT
DTSTART;VALUE=DATE:20220708
DTEND;VALUE=DATE:20220709
DTSTAMP:20260424T043655
CREATED:20220405T165754Z
LAST-MODIFIED:20220405T165754Z
UID:4958-1657238400-1657324799@gaytonj.derby.sch.uk
SUMMARY:STEM Day
DESCRIPTION:More information to follow.
URL:https://gaytonj.derby.sch.uk/event/stem-day/
END:VEVENT
BEGIN:VEVENT
DTSTART;VALUE=DATE:20220711
DTEND;VALUE=DATE:20220712
DTSTAMP:20260424T043655
CREATED:20220405T165949Z
LAST-MODIFIED:20220405T165949Z
UID:4960-1657497600-1657583999@gaytonj.derby.sch.uk
SUMMARY:Annual Reports Home to Parents
DESCRIPTION:
URL:https://gaytonj.derby.sch.uk/event/annual-reports-home-to-parents/
END:VEVENT
BEGIN:VEVENT
DTSTART;VALUE=DATE:20220713
DTEND;VALUE=DATE:20220714
DTSTAMP:20260424T043655
CREATED:20220405T170042Z
LAST-MODIFIED:20220405T170042Z
UID:4962-1657670400-1657756799@gaytonj.derby.sch.uk
SUMMARY:Year 3 National Adventure Farm Trip
DESCRIPTION:More information to follow;
URL:https://gaytonj.derby.sch.uk/event/year-3-national-adventure-farm-trip/
END:VEVENT
BEGIN:VEVENT
DTSTART;VALUE=DATE:20220713
DTEND;VALUE=DATE:20220715
DTSTAMP:20260424T043655
CREATED:20220405T170244Z
LAST-MODIFIED:20220405T170244Z
UID:4964-1657670400-1657843199@gaytonj.derby.sch.uk
SUMMARY:Year 6 Production to Parents
DESCRIPTION:Our Year 6 children will pur on their leavers’ performance for their parents at 7pm each night. Ticket information to follow.
URL:https://gaytonj.derby.sch.uk/event/year-6-production-to-parents-3/
END:VEVENT
BEGIN:VEVENT
DTSTART;VALUE=DATE:20220714
DTEND;VALUE=DATE:20220715
DTSTAMP:20260424T043655
CREATED:20220405T170407Z
LAST-MODIFIED:20220405T170407Z
UID:4966-1657756800-1657843199@gaytonj.derby.sch.uk
SUMMARY:Lower School Sports Day
DESCRIPTION:Times TBC.
URL:https://gaytonj.derby.sch.uk/event/lower-school-sports-day/
END:VEVENT
BEGIN:VEVENT
DTSTART;VALUE=DATE:20220715
DTEND;VALUE=DATE:20220716
DTSTAMP:20260424T043655
CREATED:20220405T170542Z
LAST-MODIFIED:20220405T170542Z
UID:4968-1657843200-1657929599@gaytonj.derby.sch.uk
SUMMARY:Upper School Sports Day
DESCRIPTION:Times TBC.
URL:https://gaytonj.derby.sch.uk/event/upper-school-sports-day/
END:VEVENT
BEGIN:VEVENT
DTSTART;TZID=Europe/London:20220715T180000
DTEND;TZID=Europe/London:20220716T090000
DTSTAMP:20260424T043655
CREATED:20220405T170649Z
LAST-MODIFIED:20220405T170649Z
UID:4970-1657908000-1657962000@gaytonj.derby.sch.uk
SUMMARY:Year 5 Camp
DESCRIPTION:More information to follow.
URL:https://gaytonj.derby.sch.uk/event/year-5-camp-2/
END:VEVENT
BEGIN:VEVENT
DTSTART;TZID=Europe/London:20220719T173000
DTEND;TZID=Europe/London:20220719T190000
DTSTAMP:20260424T043655
CREATED:20220405T170757Z
LAST-MODIFIED:20220405T170757Z
UID:4972-1658251800-1658257200@gaytonj.derby.sch.uk
SUMMARY:Year 6 Leavers' Party
DESCRIPTION:More information to follow.
URL:https://gaytonj.derby.sch.uk/event/year-6-leavers-party/
END:VEVENT
BEGIN:VEVENT
DTSTART;VALUE=DATE:20220720
DTEND;VALUE=DATE:20220721
DTSTAMP:20260424T043655
CREATED:20220405T171606Z
LAST-MODIFIED:20220405T171606Z
UID:4974-1658275200-1658361599@gaytonj.derby.sch.uk
SUMMARY:French Day
DESCRIPTION:Details to follow.
URL:https://gaytonj.derby.sch.uk/event/french-day-2/
END:VEVENT
BEGIN:VEVENT
DTSTART;VALUE=DATE:20220721
DTEND;VALUE=DATE:20220722
DTSTAMP:20260424T043655
CREATED:20220405T171719Z
LAST-MODIFIED:20220405T171719Z
UID:4976-1658361600-1658447999@gaytonj.derby.sch.uk
SUMMARY:Reward Day
DESCRIPTION:As usual\, Reward Day will be non-uniform for all children.
URL:https://gaytonj.derby.sch.uk/event/reward-day-3/
END:VEVENT
BEGIN:VEVENT
DTSTART;VALUE=DATE:20220722
DTEND;VALUE=DATE:20220723
DTSTAMP:20260424T043655
CREATED:20210803T132704Z
LAST-MODIFIED:20210803T132704Z
UID:4696-1658448000-1658534399@gaytonj.derby.sch.uk
SUMMARY:Break Up for Summer Holiday
DESCRIPTION:
URL:https://gaytonj.derby.sch.uk/event/break-up-for-summer-holiday/
END:VEVENT
BEGIN:VEVENT
DTSTART;VALUE=DATE:20220723
DTEND;VALUE=DATE:20220901
DTSTAMP:20260424T043655
CREATED:20210803T132816Z
LAST-MODIFIED:20210803T132816Z
UID:4698-1658534400-1661990399@gaytonj.derby.sch.uk
SUMMARY:Summer Holidays
DESCRIPTION:
URL:https://gaytonj.derby.sch.uk/event/summer-holidays-3/
END:VEVENT
END:VCALENDAR