BEGIN:VCALENDAR
VERSION:2.0
PRODID:-//Gayton Junior School - ECPv6.15.11//NONSGML v1.0//EN
CALSCALE:GREGORIAN
METHOD:PUBLISH
X-ORIGINAL-URL:https://gaytonj.derby.sch.uk
X-WR-CALDESC:Events for Gayton Junior School
REFRESH-INTERVAL;VALUE=DURATION:PT1H
X-Robots-Tag:noindex
X-PUBLISHED-TTL:PT1H
BEGIN:VTIMEZONE
TZID:Europe/London
BEGIN:DAYLIGHT
TZOFFSETFROM:+0000
TZOFFSETTO:+0100
TZNAME:BST
DTSTART:20210328T010000
END:DAYLIGHT
BEGIN:STANDARD
TZOFFSETFROM:+0100
TZOFFSETTO:+0000
TZNAME:GMT
DTSTART:20211031T010000
END:STANDARD
BEGIN:DAYLIGHT
TZOFFSETFROM:+0000
TZOFFSETTO:+0100
TZNAME:BST
DTSTART:20220327T010000
END:DAYLIGHT
BEGIN:STANDARD
TZOFFSETFROM:+0100
TZOFFSETTO:+0000
TZNAME:GMT
DTSTART:20221030T010000
END:STANDARD
BEGIN:DAYLIGHT
TZOFFSETFROM:+0000
TZOFFSETTO:+0100
TZNAME:BST
DTSTART:20230326T010000
END:DAYLIGHT
BEGIN:STANDARD
TZOFFSETFROM:+0100
TZOFFSETTO:+0000
TZNAME:GMT
DTSTART:20231029T010000
END:STANDARD
END:VTIMEZONE
BEGIN:VEVENT
DTSTART;VALUE=DATE:20220502
DTEND;VALUE=DATE:20220503
DTSTAMP:20260424T044046
CREATED:20220405T162505Z
LAST-MODIFIED:20220405T162735Z
UID:4919-1651449600-1651535999@gaytonj.derby.sch.uk
SUMMARY:May Bank Holiday
DESCRIPTION:School closed.
URL:https://gaytonj.derby.sch.uk/event/year-6-sats-week-3/
END:VEVENT
BEGIN:VEVENT
DTSTART;TZID=Europe/London:20220509T085500
DTEND;TZID=Europe/London:20220513T153000
DTSTAMP:20260424T044046
CREATED:20220405T162906Z
LAST-MODIFIED:20220405T162906Z
UID:4924-1652086500-1652455800@gaytonj.derby.sch.uk
SUMMARY:Year 6 SATs Week
DESCRIPTION:Year 6 will take their SATs tests this week.
URL:https://gaytonj.derby.sch.uk/event/year-6-sats-week-4/
END:VEVENT
BEGIN:VEVENT
DTSTART;VALUE=DATE:20220513
DTEND;VALUE=DATE:20220516
DTSTAMP:20260424T044046
CREATED:20220405T154925Z
LAST-MODIFIED:20220405T155758Z
UID:4911-1652400000-1652659199@gaytonj.derby.sch.uk
SUMMARY:Year 6 PGL Residential Weekend
DESCRIPTION:Year 6 PGL Residential takes place this weekend. Please make sure you have signed up to the school app to receive updates whilst your child is away.
URL:https://gaytonj.derby.sch.uk/event/reward-day/
END:VEVENT
BEGIN:VEVENT
DTSTART;VALUE=DATE:20220523
DTEND;VALUE=DATE:20220525
DTSTAMP:20260424T044046
CREATED:20220405T163405Z
LAST-MODIFIED:20220405T163924Z
UID:4928-1653264000-1653436799@gaytonj.derby.sch.uk
SUMMARY:RE through the Arts Days
DESCRIPTION:Mors information to follow.
URL:https://gaytonj.derby.sch.uk/event/re-through-the-arts-activity-days/
END:VEVENT
BEGIN:VEVENT
DTSTART;VALUE=DATE:20220525
DTEND;VALUE=DATE:20220526
DTSTAMP:20260424T044046
CREATED:20220405T164120Z
LAST-MODIFIED:20220516T133032Z
UID:4933-1653436800-1653523199@gaytonj.derby.sch.uk
SUMMARY:Reward Day
DESCRIPTION:As usual\, this will be non-uniform for all children.
URL:https://gaytonj.derby.sch.uk/event/reward-day-2/
END:VEVENT
BEGIN:VEVENT
DTSTART;VALUE=DATE:20220527
DTEND;VALUE=DATE:20220528
DTSTAMP:20260424T044046
CREATED:20210803T132524Z
LAST-MODIFIED:20210803T132524Z
UID:4690-1653609600-1653695999@gaytonj.derby.sch.uk
SUMMARY:Break Up for Half Term
DESCRIPTION:
URL:https://gaytonj.derby.sch.uk/event/break-up-for-half-term-6/
END:VEVENT
BEGIN:VEVENT
DTSTART;VALUE=DATE:20220527
DTEND;VALUE=DATE:20220528
DTSTAMP:20260424T044046
CREATED:20220405T163008Z
LAST-MODIFIED:20220405T163008Z
UID:4926-1653609600-1653695999@gaytonj.derby.sch.uk
SUMMARY:Platinum Jubilee Celebration Day
DESCRIPTION:Details to follow.
URL:https://gaytonj.derby.sch.uk/event/platinum-jubilee-celebration-day/
END:VEVENT
BEGIN:VEVENT
DTSTART;VALUE=DATE:20220528
DTEND;VALUE=DATE:20220606
DTSTAMP:20260424T044046
CREATED:20210803T132544Z
LAST-MODIFIED:20210803T132630Z
UID:4692-1653696000-1654473599@gaytonj.derby.sch.uk
SUMMARY:Half Term
DESCRIPTION:
URL:https://gaytonj.derby.sch.uk/event/half-term-11/
END:VEVENT
END:VCALENDAR