BEGIN:VCALENDAR
VERSION:2.0
PRODID:-//Gayton Junior School - ECPv6.15.11//NONSGML v1.0//EN
CALSCALE:GREGORIAN
METHOD:PUBLISH
X-WR-CALNAME:Gayton Junior School
X-ORIGINAL-URL:https://gaytonj.derby.sch.uk
X-WR-CALDESC:Events for Gayton Junior School
REFRESH-INTERVAL;VALUE=DURATION:PT1H
X-Robots-Tag:noindex
X-PUBLISHED-TTL:PT1H
BEGIN:VTIMEZONE
TZID:Europe/London
BEGIN:DAYLIGHT
TZOFFSETFROM:+0000
TZOFFSETTO:+0100
TZNAME:BST
DTSTART:20200329T010000
END:DAYLIGHT
BEGIN:STANDARD
TZOFFSETFROM:+0100
TZOFFSETTO:+0000
TZNAME:GMT
DTSTART:20201025T010000
END:STANDARD
BEGIN:DAYLIGHT
TZOFFSETFROM:+0000
TZOFFSETTO:+0100
TZNAME:BST
DTSTART:20210328T010000
END:DAYLIGHT
BEGIN:STANDARD
TZOFFSETFROM:+0100
TZOFFSETTO:+0000
TZNAME:GMT
DTSTART:20211031T010000
END:STANDARD
BEGIN:DAYLIGHT
TZOFFSETFROM:+0000
TZOFFSETTO:+0100
TZNAME:BST
DTSTART:20220327T010000
END:DAYLIGHT
BEGIN:STANDARD
TZOFFSETFROM:+0100
TZOFFSETTO:+0000
TZNAME:GMT
DTSTART:20221030T010000
END:STANDARD
BEGIN:DAYLIGHT
TZOFFSETFROM:+0000
TZOFFSETTO:+0100
TZNAME:BST
DTSTART:20230326T010000
END:DAYLIGHT
BEGIN:STANDARD
TZOFFSETFROM:+0100
TZOFFSETTO:+0000
TZNAME:GMT
DTSTART:20231029T010000
END:STANDARD
END:VTIMEZONE
BEGIN:VEVENT
DTSTART;VALUE=DATE:20211221
DTEND;VALUE=DATE:20211222
DTSTAMP:20260424T120755
CREATED:20210803T132113Z
LAST-MODIFIED:20211215T094059Z
UID:4668-1640044800-1640131199@gaytonj.derby.sch.uk
SUMMARY:Break Up for Christmas Holiday
DESCRIPTION:
URL:https://gaytonj.derby.sch.uk/event/break-up-for-christmas-holiday/
END:VEVENT
BEGIN:VEVENT
DTSTART;VALUE=DATE:20211222
DTEND;VALUE=DATE:20211223
DTSTAMP:20260424T120755
CREATED:20211215T094232Z
LAST-MODIFIED:20211215T095353Z
UID:4827-1640131200-1640217599@gaytonj.derby.sch.uk
SUMMARY:INSET 4
DESCRIPTION:
URL:https://gaytonj.derby.sch.uk/event/school-closed-in-lieu-of-queens-jubilee-holiday-2022/
END:VEVENT
BEGIN:VEVENT
DTSTART;VALUE=DATE:20211223
DTEND;VALUE=DATE:20211224
DTSTAMP:20260424T120755
CREATED:20210803T132130Z
LAST-MODIFIED:20211215T095946Z
UID:4670-1640217600-1640303999@gaytonj.derby.sch.uk
SUMMARY:Additional Day in Lieu of Queen's Jubilee Bank Holiday 2022
DESCRIPTION:
URL:https://gaytonj.derby.sch.uk/event/inset-4-2/
END:VEVENT
BEGIN:VEVENT
DTSTART;VALUE=DATE:20211224
DTEND;VALUE=DATE:20220110
DTSTAMP:20260424T120755
CREATED:20210803T132228Z
LAST-MODIFIED:20210803T132408Z
UID:4676-1640304000-1641772799@gaytonj.derby.sch.uk
SUMMARY:Christmas Holidays
DESCRIPTION:
URL:https://gaytonj.derby.sch.uk/event/christmas-holidays-3/
END:VEVENT
END:VCALENDAR