BEGIN:VCALENDAR
VERSION:2.0
PRODID:-//Gayton Junior School - ECPv6.15.11//NONSGML v1.0//EN
CALSCALE:GREGORIAN
METHOD:PUBLISH
X-ORIGINAL-URL:https://gaytonj.derby.sch.uk
X-WR-CALDESC:Events for Gayton Junior School
REFRESH-INTERVAL;VALUE=DURATION:PT1H
X-Robots-Tag:noindex
X-PUBLISHED-TTL:PT1H
BEGIN:VTIMEZONE
TZID:Europe/London
BEGIN:DAYLIGHT
TZOFFSETFROM:+0000
TZOFFSETTO:+0100
TZNAME:BST
DTSTART:20210328T010000
END:DAYLIGHT
BEGIN:STANDARD
TZOFFSETFROM:+0100
TZOFFSETTO:+0000
TZNAME:GMT
DTSTART:20211031T010000
END:STANDARD
BEGIN:DAYLIGHT
TZOFFSETFROM:+0000
TZOFFSETTO:+0100
TZNAME:BST
DTSTART:20220327T010000
END:DAYLIGHT
BEGIN:STANDARD
TZOFFSETFROM:+0100
TZOFFSETTO:+0000
TZNAME:GMT
DTSTART:20221030T010000
END:STANDARD
BEGIN:DAYLIGHT
TZOFFSETFROM:+0000
TZOFFSETTO:+0100
TZNAME:BST
DTSTART:20230326T010000
END:DAYLIGHT
BEGIN:STANDARD
TZOFFSETFROM:+0100
TZOFFSETTO:+0000
TZNAME:GMT
DTSTART:20231029T010000
END:STANDARD
END:VTIMEZONE
BEGIN:VEVENT
DTSTART;VALUE=DATE:20221101
DTEND;VALUE=DATE:20221222
DTSTAMP:20260424T135055
CREATED:20220916T082448Z
LAST-MODIFIED:20220916T082537Z
UID:5175-1667260800-1671667199@gaytonj.derby.sch.uk
SUMMARY:Autumn Term 2
DESCRIPTION:Autumn Term 2
URL:https://gaytonj.derby.sch.uk/event/inset-3-3/
END:VEVENT
BEGIN:VEVENT
DTSTART;TZID=Europe/London:20221215T170000
DTEND;TZID=Europe/London:20221215T194500
DTSTAMP:20260424T135055
CREATED:20221121T140650Z
LAST-MODIFIED:20221121T140757Z
UID:5272-1671123600-1671133500@gaytonj.derby.sch.uk
SUMMARY:Christmas Discos
DESCRIPTION:The School Council have requested Christmas Discos again this year. These will be held on Thursday 15th December. Lower School Disco will run from 5pm-6:15pm and Upper School Disco will run from 6:30pm–7:45pm. All children MUST be collected by an adult please. Tickets will go on sale nearer the time—please keep an eye out for details. \n 
URL:https://gaytonj.derby.sch.uk/event/christmas-discos/
END:VEVENT
END:VCALENDAR