BEGIN:VCALENDAR
VERSION:2.0
PRODID:-//Gayton Junior School - ECPv6.15.11//NONSGML v1.0//EN
CALSCALE:GREGORIAN
METHOD:PUBLISH
X-ORIGINAL-URL:https://gaytonj.derby.sch.uk
X-WR-CALDESC:Events for Gayton Junior School
REFRESH-INTERVAL;VALUE=DURATION:PT1H
X-Robots-Tag:noindex
X-PUBLISHED-TTL:PT1H
BEGIN:VTIMEZONE
TZID:Europe/London
BEGIN:DAYLIGHT
TZOFFSETFROM:+0000
TZOFFSETTO:+0100
TZNAME:BST
DTSTART:20210328T010000
END:DAYLIGHT
BEGIN:STANDARD
TZOFFSETFROM:+0100
TZOFFSETTO:+0000
TZNAME:GMT
DTSTART:20211031T010000
END:STANDARD
BEGIN:DAYLIGHT
TZOFFSETFROM:+0000
TZOFFSETTO:+0100
TZNAME:BST
DTSTART:20220327T010000
END:DAYLIGHT
BEGIN:STANDARD
TZOFFSETFROM:+0100
TZOFFSETTO:+0000
TZNAME:GMT
DTSTART:20221030T010000
END:STANDARD
BEGIN:DAYLIGHT
TZOFFSETFROM:+0000
TZOFFSETTO:+0100
TZNAME:BST
DTSTART:20230326T010000
END:DAYLIGHT
BEGIN:STANDARD
TZOFFSETFROM:+0100
TZOFFSETTO:+0000
TZNAME:GMT
DTSTART:20231029T010000
END:STANDARD
END:VTIMEZONE
BEGIN:VEVENT
DTSTART;VALUE=DATE:20221101
DTEND;VALUE=DATE:20221222
DTSTAMP:20260424T135101
CREATED:20220916T082448Z
LAST-MODIFIED:20220916T082537Z
UID:5175-1667260800-1671667199@gaytonj.derby.sch.uk
SUMMARY:Autumn Term 2
DESCRIPTION:Autumn Term 2
URL:https://gaytonj.derby.sch.uk/event/inset-3-3/
END:VEVENT
BEGIN:VEVENT
DTSTART;TZID=Europe/London:20221214T140000
DTEND;TZID=Europe/London:20221214T150000
DTSTAMP:20260424T135101
CREATED:20221121T140917Z
LAST-MODIFIED:20221121T140917Z
UID:5274-1671026400-1671030000@gaytonj.derby.sch.uk
SUMMARY:Year 3 Production
DESCRIPTION:Performance to parents at 2pm and 6pm. Please look out for details regarding tickets.
URL:https://gaytonj.derby.sch.uk/event/year-3-production/
END:VEVENT
BEGIN:VEVENT
DTSTART;TZID=Europe/London:20221214T180000
DTEND;TZID=Europe/London:20221214T190000
DTSTAMP:20260424T135101
CREATED:20221121T140935Z
LAST-MODIFIED:20221121T141035Z
UID:5276-1671040800-1671044400@gaytonj.derby.sch.uk
SUMMARY:Year 3 Production
DESCRIPTION:Performance to parents at 2pm and 6pm. Please look out for details regarding tickets.
URL:https://gaytonj.derby.sch.uk/event/year-3-production-2/
END:VEVENT
END:VCALENDAR