BEGIN:VCALENDAR
VERSION:2.0
PRODID:-//Gayton Junior School - ECPv6.15.11//NONSGML v1.0//EN
CALSCALE:GREGORIAN
METHOD:PUBLISH
X-WR-CALNAME:Gayton Junior School
X-ORIGINAL-URL:https://gaytonj.derby.sch.uk
X-WR-CALDESC:Events for Gayton Junior School
REFRESH-INTERVAL;VALUE=DURATION:PT1H
X-Robots-Tag:noindex
X-PUBLISHED-TTL:PT1H
BEGIN:VTIMEZONE
TZID:Europe/London
BEGIN:DAYLIGHT
TZOFFSETFROM:+0000
TZOFFSETTO:+0100
TZNAME:BST
DTSTART:20210328T010000
END:DAYLIGHT
BEGIN:STANDARD
TZOFFSETFROM:+0100
TZOFFSETTO:+0000
TZNAME:GMT
DTSTART:20211031T010000
END:STANDARD
BEGIN:DAYLIGHT
TZOFFSETFROM:+0000
TZOFFSETTO:+0100
TZNAME:BST
DTSTART:20220327T010000
END:DAYLIGHT
BEGIN:STANDARD
TZOFFSETFROM:+0100
TZOFFSETTO:+0000
TZNAME:GMT
DTSTART:20221030T010000
END:STANDARD
BEGIN:DAYLIGHT
TZOFFSETFROM:+0000
TZOFFSETTO:+0100
TZNAME:BST
DTSTART:20230326T010000
END:DAYLIGHT
BEGIN:STANDARD
TZOFFSETFROM:+0100
TZOFFSETTO:+0000
TZNAME:GMT
DTSTART:20231029T010000
END:STANDARD
END:VTIMEZONE
BEGIN:VEVENT
DTSTART;VALUE=DATE:20220713
DTEND;VALUE=DATE:20220714
DTSTAMP:20260424T055910
CREATED:20220405T170042Z
LAST-MODIFIED:20220405T170042Z
UID:4962-1657670400-1657756799@gaytonj.derby.sch.uk
SUMMARY:Year 3 National Adventure Farm Trip
DESCRIPTION:More information to follow;
URL:https://gaytonj.derby.sch.uk/event/year-3-national-adventure-farm-trip/
END:VEVENT
BEGIN:VEVENT
DTSTART;VALUE=DATE:20220713
DTEND;VALUE=DATE:20220715
DTSTAMP:20260424T055910
CREATED:20220405T170244Z
LAST-MODIFIED:20220405T170244Z
UID:4964-1657670400-1657843199@gaytonj.derby.sch.uk
SUMMARY:Year 6 Production to Parents
DESCRIPTION:Our Year 6 children will pur on their leavers’ performance for their parents at 7pm each night. Ticket information to follow.
URL:https://gaytonj.derby.sch.uk/event/year-6-production-to-parents-3/
END:VEVENT
END:VCALENDAR